BEGIN:VCALENDAR
VERSION:2.0
BEGIN:VEVENT
UID:0BB06E83-AC5A-482A-AAE0-FB443991C23D
DTSTART:20230619T183000Z
DTEND:20230619T193000Z
SUMMARY:Tarrant Area Guild of Storytelling Public Event
DESCRIPTION:You are invited to the Tarrant Area Guild of Storytellers month
 ly meeting at the Barnes and Nobles Northeast Mall in Hurst Texas 76053 \n
 Mall in Hurst Texas. Every month we meet with\, and entertain the public w
 ith  stories of history\, culture\, folklore\, family\, friends\, and more
 . \nEach month there is a different theme for the tellers\, but for all ou
 r friends and visitors if you wish to share\, you are invited and if you o
 nly want to listen we \nneed you guys too. Storyteller Decee Cornish we sh
 are his story\,  "The Emancipation Trail" to recognize June 19th. So in ad
 dition to Decee we will have our \ntraditional open mike'. We are open for
  membership\, and provide training and workshops for the novice and anyone
  interested in learning The Art of Story.  \nTAGS is always looking for ne
 w venues and new audiences for storytelling. Hope to see you soon and don'
 t forget your story!\nBarnes and Nobles\n861 NE Mall Blvd\nHurst\, TX 7605
 3 United States\n
LOCATION:861 NE Mall Blvd\, Hurst\, TX 76053
URL:http://southlake.bubblelife.com/community/decee_cornish_stoyteller/libr
 ary/357330180/key/3511967173/Tarrant_Area_Guild_of_Storytelling_Public_Eve
 nt
CREATED:20230521T221258Z
LAST-MODIFIED:20230521T221258Z
DTSTAMP:20260425T112137Z
RRULE:FREQ=MONTHLY;BYDAY=3MO
CLASS:PUBLIC
STATUS:CONFIRMED
TRANSP:TRANSPARENT
SEQUENCE:1
END:VEVENT
END:VCALENDAR
